 BEGIN:VCALENDAR
VERSION:2.0
PRODID:-//Helfernetz Mehring - ECPv6.1.1//NONSGML v1.0//EN
CALSCALE:GREGORIAN
METHOD:PUBLISH
X-WR-CALNAME:Helfernetz Mehring
X-ORIGINAL-URL:https://helfernetz-mehring.de
X-WR-CALDESC:Veranstaltungen für Helfernetz Mehring
REFRESH-INTERVAL;VALUE=DURATION:PT1H
X-Robots-Tag:noindex
X-PUBLISHED-TTL:PT1H
BEGIN:VTIMEZONE
TZID:UTC
BEGIN:STANDARD
TZOFFSETFROM:+0000
TZOFFSETTO:+0000
TZNAME:UTC
DTSTART:20260101T000000
END:STANDARD
END:VTIMEZONE
BEGIN:VEVENT
DTSTART;TZID=UTC:20260422T150000
DTEND;TZID=UTC:20260422T170000
DTSTAMP:20260422T012831
CREATED:20260315T103314Z
LAST-MODIFIED:20260315T103314Z
UID:3091-1776870000-1776877200@helfernetz-mehring.de
SUMMARY:Seniorennachmittag / Vortrag Wohnberatung
DESCRIPTION:Im Alter zuhause wohnen. \nWie Technik und Digitalisierung unterstützen.
URL:https://helfernetz-mehring.de/termin/seniorennachmittag-vortrag-wohnberatung/
LOCATION:Sportgaststätte Mehring\, Scheibelbergstraße 6\, Mehring\, 84561
ORGANIZER;CN="Quartiersmanagement%20Mehring":MAILTO:quartiersmanagement@gemeinde-mehring.de
END:VEVENT
END:VCALENDAR