 BEGIN:VCALENDAR
VERSION:2.0
PRODID:-//Helfernetz Mehring - ECPv6.1.1//NONSGML v1.0//EN
CALSCALE:GREGORIAN
METHOD:PUBLISH
X-WR-CALNAME:Helfernetz Mehring
X-ORIGINAL-URL:https://helfernetz-mehring.de
X-WR-CALDESC:Veranstaltungen für Helfernetz Mehring
REFRESH-INTERVAL;VALUE=DURATION:PT1H
X-Robots-Tag:noindex
X-PUBLISHED-TTL:PT1H
BEGIN:VTIMEZONE
TZID:UTC
BEGIN:STANDARD
TZOFFSETFROM:+0000
TZOFFSETTO:+0000
TZNAME:UTC
DTSTART:20250101T000000
END:STANDARD
END:VTIMEZONE
BEGIN:VEVENT
DTSTART;TZID=UTC:20260114T084500
DTEND;TZID=UTC:20260114T111500
DTSTAMP:20260421T135748
CREATED:20251220T093344Z
LAST-MODIFIED:20251220T093344Z
UID:3059-1768380300-1768389300@helfernetz-mehring.de
SUMMARY:Neuer Kurs für Senioren "Fit für die digitale Welt"
DESCRIPTION:
URL:https://helfernetz-mehring.de/termin/neuer-kurs-fuer-senioren-fit-fuer-die-digitale-welt/
LOCATION:Gemeinde\, Scheibelbergstraße 2\, Mehring\, 84561\, Deutschland
ORGANIZER;CN="Quartiersmanagement%20Mehring":MAILTO:quartiersmanagement@gemeinde-mehring.de
END:VEVENT
BEGIN:VEVENT
DTSTART;TZID=UTC:20251217T150000
DTEND;TZID=UTC:20251217T150000
DTSTAMP:20260421T135748
CREATED:20250214T125527Z
LAST-MODIFIED:20250214T125818Z
UID:3011-1765983600-1765983600@helfernetz-mehring.de
SUMMARY:Seniorennachmittag/ Weihnachtsfeier in der Sportgaststätte
DESCRIPTION:Mit den Mehringer Amseln
URL:https://helfernetz-mehring.de/termin/seniorennachmittag-weihnachtsfeier-in-der-sportgaststaette/
LOCATION:Sportgaststätte Mehring\, Scheibelbergstraße 6\, Mehring\, 84561
END:VEVENT
BEGIN:VEVENT
DTSTART;TZID=UTC:20251022T000000
DTEND;TZID=UTC:20251022T000000
DTSTAMP:20260421T135748
CREATED:20250214T125251Z
LAST-MODIFIED:20250214T125847Z
UID:3009-1761091200-1761091200@helfernetz-mehring.de
SUMMARY:"Großer" Seniorenausflug
DESCRIPTION:Weitere Infos folgen
URL:https://helfernetz-mehring.de/termin/grosser-seniorenausflug/
END:VEVENT
BEGIN:VEVENT
DTSTART;TZID=UTC:20250924T150000
DTEND;TZID=UTC:20250924T150000
DTSTAMP:20260421T135748
CREATED:20250214T125057Z
LAST-MODIFIED:20250214T125915Z
UID:3007-1758726000-1758726000@helfernetz-mehring.de
SUMMARY:Seniorennachmittag in der Sportgaststätte
DESCRIPTION:Weitere Infos folgen
URL:https://helfernetz-mehring.de/termin/seniorennachmittag-in-der-sportgaststaette/
LOCATION:Sportgaststätte Mehring\, Scheibelbergstraße 6\, Mehring\, 84561
END:VEVENT
BEGIN:VEVENT
DTSTART;TZID=UTC:20250730T150000
DTEND;TZID=UTC:20250730T150000
DTSTAMP:20260421T135748
CREATED:20250214T124828Z
LAST-MODIFIED:20250214T125938Z
UID:3005-1753887600-1753887600@helfernetz-mehring.de
SUMMARY:Sommerfest mit Tombola
DESCRIPTION:
URL:https://helfernetz-mehring.de/termin/sommerfest-mit-tombola/
LOCATION:Sportgaststätte Mehring\, Scheibelbergstraße 6\, Mehring\, 84561
END:VEVENT
BEGIN:VEVENT
DTSTART;TZID=UTC:20250623T000000
DTEND;TZID=UTC:20250623T000000
DTSTAMP:20260421T135748
CREATED:20250214T124547Z
LAST-MODIFIED:20250214T130007Z
UID:3002-1750636800-1750636800@helfernetz-mehring.de
SUMMARY:Spaziergang am Salzachufer nach Raitenhaslach mit Klosterführung und Mittagessen
DESCRIPTION:Gemeinsame Rückfahrt im Rufbus. \nWeitere Infos folgen
URL:https://helfernetz-mehring.de/termin/spaziergang-am-salzachufer-nach-raitenhaslach-mit-klosterfuehrung-und-mittagessen/
LOCATION:Kloster Raitenhaslach\, Raitenhaslach 9\, 84489 Raitenhaslach\, Deutschland
END:VEVENT
BEGIN:VEVENT
DTSTART;TZID=UTC:20250526T140000
DTEND;TZID=UTC:20250526T140000
DTSTAMP:20260421T135748
CREATED:20250214T123926Z
LAST-MODIFIED:20250214T130035Z
UID:2999-1748268000-1748268000@helfernetz-mehring.de
SUMMARY:Fahrt mit dem Rufbus zum Seniorennachmittag auf der Maiwies'n
DESCRIPTION:Anmeldung zur Rufbusfahrt und Tischreservierung werden bis 22.05. im Seniorenbüro entgegengenomen
URL:https://helfernetz-mehring.de/termin/fahrt-mit-dem-rufbus-zum-seniorennachmittag-auf-der-maiwiesn/
LOCATION:Maiwies’n Burghausen\, Unghauser Str. 22\, 84489 Burghausen\, Deutschland
END:VEVENT
BEGIN:VEVENT
DTSTART;TZID=UTC:20250510T180000
DTEND;TZID=UTC:20250510T180000
DTSTAMP:20260421T135748
CREATED:20250214T122957Z
LAST-MODIFIED:20250214T130059Z
UID:2995-1746900000-1746900000@helfernetz-mehring.de
SUMMARY:Frühlingssingen am Dorfplatz/ Ort der Begegnung
DESCRIPTION:Veranstaltung der Mehringer Musikgruppen
URL:https://helfernetz-mehring.de/termin/fruehlingssingen-am-dorfplatz-ort-der-begegnung/
LOCATION:Dorfplatz Mehring / Ort der Begegnung\, Dorfstraße 2\, Mehring\, 84561\, Deutschland
ORGANIZER;CN="Quartiersmanagement%20Mehring":MAILTO:quartiersmanagement@gemeinde-mehring.de
END:VEVENT
END:VCALENDAR